BEGIN:VCALENDAR
VERSION:2.0
PRODID:-//hacksw/handcal//NONSGML v1.0//EN
CALSCALE:GREGORIAN
BEGIN:VEVENT
LOCATION:Barcelona
DESCRIPTION:
DTSTART:20170524T170000Z
DTEND:20170524T170000Z
SUMMARY:Projecció de "Todo sobre mi madre"
URL;VALUE=URI:https://arquitectes.cat/ca/content/projecci%C3%B3-de-todo-sobre-mi-madre
DTSTAMP:20260426T033834Z
UID:69ed6c9a5aa57
END:VEVENT
END:VCALENDAR