BEGIN:VCALENDAR
VERSION:2.0
PRODID:-//hacksw/handcal//NONSGML v1.0//EN
CALSCALE:GREGORIAN
BEGIN:VEVENT
LOCATION:Tarragona
DESCRIPTION:
DTSTART:20170514T220000Z
DTEND:20170810T220000Z
SUMMARY:Exposición: Las Catedrales del Vino
URL;VALUE=URI:https://arquitectes.cat/ca/node/26931
DTSTAMP:20260422T190805Z
UID:69e9007504194
END:VEVENT
END:VCALENDAR