BEGIN:VCALENDAR
VERSION:2.0
PRODID:-//hacksw/handcal//NONSGML v1.0//EN
CALSCALE:GREGORIAN
BEGIN:VEVENT
LOCATION:Barcelona
DESCRIPTION:
DTSTART:20170504T170000Z
DTEND:20170504T170000Z
SUMMARY:Conference 'Political actions in Latin America's water crisis' by chilean ex-minister Sergio Bitar
URL;VALUE=URI:https://arquitectes.cat/ca/node/26914
DTSTAMP:20260419T183931Z
UID:69e5054377922
END:VEVENT
END:VCALENDAR