BEGIN:VCALENDAR
VERSION:2.0
PRODID:-//hacksw/handcal//NONSGML v1.0//EN
CALSCALE:GREGORIAN
BEGIN:VEVENT
LOCATION:Barcelona
DESCRIPTION:
DTSTART:20170516T170000Z
DTEND:20170516T170000Z
SUMMARY:Ciclo de conferencias INTERNET OF THINGS. Operaciones en Smart Buildings
URL;VALUE=URI:https://arquitectes.cat/ca/node/26906
DTSTAMP:20260420T052825Z
UID:69e59d59b2f91
END:VEVENT
END:VCALENDAR