BEGIN:VCALENDAR
VERSION:2.0
PRODID:-//hacksw/handcal//NONSGML v1.0//EN
CALSCALE:GREGORIAN
BEGIN:VEVENT
LOCATION:Barcelona
DESCRIPTION:
DTSTART:20170516T170000Z
DTEND:20170516T170000Z
SUMMARY:INTERNET OF THINGS (IOT) 3rd session: Operations in Smart Buildings
URL;VALUE=URI:https://arquitectes.cat/ca/node/26904
DTSTAMP:20260426T051136Z
UID:69ed8268706fd
END:VEVENT
END:VCALENDAR