BEGIN:VCALENDAR
VERSION:2.0
PRODID:-//hacksw/handcal//NONSGML v1.0//EN
CALSCALE:GREGORIAN
BEGIN:VEVENT
LOCATION:Barcelona
DESCRIPTION:
DTSTART:20170504T070000Z
DTEND:20170504T070000Z
SUMMARY:Technological integration in construction. New materials and systems
URL;VALUE=URI:https://arquitectes.cat/ca/node/26901
DTSTAMP:20260419T233141Z
UID:69e549bdbea1e
END:VEVENT
END:VCALENDAR