BEGIN:VCALENDAR
VERSION:2.0
PRODID:-//hacksw/handcal//NONSGML v1.0//EN
CALSCALE:GREGORIAN
BEGIN:VEVENT
LOCATION:Barcelona
DESCRIPTION:
DTSTART:20170530T063000Z
DTEND:20170530T063000Z
SUMMARY:Desayunos de interiorismo: Aires de Milán. Tendencias en mobiliario e iluminación 2017
URL;VALUE=URI:https://arquitectes.cat/ca/node/26900
DTSTAMP:20260419T225409Z
UID:69e540f11b0b6
END:VEVENT
END:VCALENDAR