BEGIN:VCALENDAR
VERSION:2.0
PRODID:-//hacksw/handcal//NONSGML v1.0//EN
CALSCALE:GREGORIAN
BEGIN:VEVENT
LOCATION:Barcelona
DESCRIPTION:
DTSTART:20170505T100000Z
DTEND:20170505T100000Z
SUMMARY:Conferència "Free form\, from structure and digital technology"\, de Justo García Rubino
URL;VALUE=URI:https://arquitectes.cat/ca/content/confer%C3%A8ncia-free-form-structure-and-digital-technology-de-justo-garc%C3%ADa-rubino
DTSTAMP:20260425T143104Z
UID:69ecb4085e0d2
END:VEVENT
END:VCALENDAR