BEGIN:VCALENDAR
VERSION:2.0
PRODID:-//hacksw/handcal//NONSGML v1.0//EN
CALSCALE:GREGORIAN
BEGIN:VEVENT
LOCATION:Barcelona
DESCRIPTION:
DTSTART:20170626T070000Z
DTEND:20170707T150000Z
SUMMARY:Llegim la Ciutat. Casal d'estiu del MUHBA (inscripcions fins al 31/05/17)
URL;VALUE=URI:https://arquitectes.cat/ca/content/llegim-la-ciutat-casal-destiu-del-muhba-inscripcions-fins-al-310517
DTSTAMP:20260419T220123Z
UID:69e5349345dd6
END:VEVENT
END:VCALENDAR