BEGIN:VCALENDAR
VERSION:2.0
PRODID:-//hacksw/handcal//NONSGML v1.0//EN
CALSCALE:GREGORIAN
BEGIN:VEVENT
LOCATION:Barcelona
DESCRIPTION:
DTSTART:20170509T173000Z
DTEND:20170509T173000Z
SUMMARY:Lecture by Dieter Dietz - Atelier de la Conception de l'Espace EPFL
URL;VALUE=URI:https://arquitectes.cat/ca/node/26846
DTSTAMP:20260420T034253Z
UID:69e5849dca1fd
END:VEVENT
END:VCALENDAR