BEGIN:VCALENDAR
VERSION:2.0
PRODID:-//hacksw/handcal//NONSGML v1.0//EN
CALSCALE:GREGORIAN
BEGIN:VEVENT
LOCATION:Barcelona
DESCRIPTION:
DTSTART:20170502T173000Z
DTEND:20170502T173000Z
SUMMARY:Lecture by Jaime Coll + Judith Leclerc - Definitely Unfinished
URL;VALUE=URI:https://arquitectes.cat/ca/node/26845
DTSTAMP:20260420T053414Z
UID:69e59eb6a0241
END:VEVENT
END:VCALENDAR