BEGIN:VCALENDAR
VERSION:2.0
PRODID:-//hacksw/handcal//NONSGML v1.0//EN
CALSCALE:GREGORIAN
BEGIN:VEVENT
LOCATION:Lleida
DESCRIPTION:
DTSTART:20170421T180000Z
DTEND:20170421T180000Z
SUMMARY:Conferencia: "Obras y proyectos recientes de Martínez Lapeña - Torres Arquitectos"
URL;VALUE=URI:https://arquitectes.cat/ca/node/26810
DTSTAMP:20260424T225102Z
UID:69ebd7b6d09ba
END:VEVENT
END:VCALENDAR