BEGIN:VCALENDAR
VERSION:2.0
PRODID:-//hacksw/handcal//NONSGML v1.0//EN
CALSCALE:GREGORIAN
BEGIN:VEVENT
LOCATION:Barcelona
DESCRIPTION:
DTSTART:20170507T103000Z
DTEND:20170507T103000Z
SUMMARY:Guided tour to the Joan Miró Foundation
URL;VALUE=URI:https://arquitectes.cat/ca/node/26795
DTSTAMP:20260419T145237Z
UID:69e4d0155e6ef
END:VEVENT
END:VCALENDAR