BEGIN:VCALENDAR
VERSION:2.0
PRODID:-//hacksw/handcal//NONSGML v1.0//EN
CALSCALE:GREGORIAN
BEGIN:VEVENT
LOCATION:Barcelona
DESCRIPTION:
DTSTART:20170406T104500Z
DTEND:20170406T104500Z
SUMMARY:BAC Spring 2017 Lecture series: Enric Batlle
URL;VALUE=URI:https://arquitectes.cat/ca/node/26772
DTSTAMP:20260422T223550Z
UID:69e93126d565c
END:VEVENT
END:VCALENDAR