BEGIN:VCALENDAR
VERSION:2.0
PRODID:-//hacksw/handcal//NONSGML v1.0//EN
CALSCALE:GREGORIAN
BEGIN:VEVENT
LOCATION:Terrassa
DESCRIPTION:
DTSTART:20170527T090000Z
DTEND:20170527T090000Z
SUMMARY:Conferència "Leonardo\, també urbanista"\, a càrrec de Zaida Muxí
URL;VALUE=URI:https://arquitectes.cat/ca/content/confer%C3%A8ncia-leonardo-tamb%C3%A9-urbanista-c%C3%A0rrec-de-zaida-mux%C3%AD
DTSTAMP:20260425T132041Z
UID:69eca38954525
END:VEVENT
END:VCALENDAR