BEGIN:VCALENDAR
VERSION:2.0
PRODID:-//hacksw/handcal//NONSGML v1.0//EN
CALSCALE:GREGORIAN
BEGIN:VEVENT
LOCATION:Barcelona
DESCRIPTION:
DTSTART:20170425T170000Z
DTEND:20170425T170000Z
SUMMARY:Cicle de conferències INTERNET OF THINGS (IOT) 2a sessió: Aigua i energia: Gestió intel·ligent de recursos clau
URL;VALUE=URI:https://arquitectes.cat/ca/content/cicle-de-confer%C3%A8ncies-internet-things-iot-2a-sessi%C3%B3-aigua-i-energia-gesti%C3%B3-intel%C2%B7ligent-de
DTSTAMP:20260419T235727Z
UID:69e54fc7dc8a8
END:VEVENT
END:VCALENDAR