BEGIN:VCALENDAR
VERSION:2.0
PRODID:-//hacksw/handcal//NONSGML v1.0//EN
CALSCALE:GREGORIAN
BEGIN:VEVENT
LOCATION:
DESCRIPTION:
DTSTART:20170512T070000Z
DTEND:20170513T160000Z
SUMMARY:Jornada técnica: "La volta catalana"
URL;VALUE=URI:https://arquitectes.cat/ca/node/26724
DTSTAMP:20260419T185324Z
UID:69e5088488cd2
END:VEVENT
END:VCALENDAR