BEGIN:VCALENDAR
VERSION:2.0
PRODID:-//hacksw/handcal//NONSGML v1.0//EN
CALSCALE:GREGORIAN
BEGIN:VEVENT
LOCATION:Barcelona
DESCRIPTION:
DTSTART:20170322T170000Z
DTEND:20170601T170000Z
SUMMARY:Exposició "Felicitat i Arquitectura"
URL;VALUE=URI:https://arquitectes.cat/ca/content/exposici%C3%B3-felicitat-i-arquitectura-0
DTSTAMP:20260423T001722Z
UID:69e948f2e4b08
END:VEVENT
END:VCALENDAR