BEGIN:VCALENDAR
VERSION:2.0
PRODID:-//hacksw/handcal//NONSGML v1.0//EN
CALSCALE:GREGORIAN
BEGIN:VEVENT
LOCATION:Girona
DESCRIPTION:
DTSTART:20170401T070000Z
DTEND:20170401T070000Z
SUMMARY:Seminario "TheSpurProject: exploración de los espacios abandonados y recuperación mediante el arte contemporáneo"
URL;VALUE=URI:https://arquitectes.cat/ca/node/26655
DTSTAMP:20260419T201746Z
UID:69e51c4a98b64
END:VEVENT
END:VCALENDAR