BEGIN:VCALENDAR
VERSION:2.0
PRODID:-//hacksw/handcal//NONSGML v1.0//EN
CALSCALE:GREGORIAN
BEGIN:VEVENT
LOCATION:Barcelona
DESCRIPTION:
DTSTART:20170313T170000Z
DTEND:20170503T170000Z
SUMMARY:El Taller de los Sueños
URL;VALUE=URI:https://arquitectes.cat/ca/node/26644
DTSTAMP:20260422T154159Z
UID:69e8d027b6275
END:VEVENT
END:VCALENDAR