BEGIN:VCALENDAR
VERSION:2.0
PRODID:-//hacksw/handcal//NONSGML v1.0//EN
CALSCALE:GREGORIAN
BEGIN:VEVENT
LOCATION:Barcelona
DESCRIPTION:
DTSTART:20170422T070000Z
DTEND:20170422T070000Z
SUMMARY:Si te gusta correr\, ya te puedes inscribir en la VIII Carrera Intercolegial Sabadell Profesional 2017
URL;VALUE=URI:https://arquitectes.cat/ca/node/26630
DTSTAMP:20260419T163940Z
UID:69e4e92ccce1b
END:VEVENT
END:VCALENDAR