BEGIN:VCALENDAR
VERSION:2.0
PRODID:-//hacksw/handcal//NONSGML v1.0//EN
CALSCALE:GREGORIAN
BEGIN:VEVENT
LOCATION:Barcelona
DESCRIPTION:
DTSTART:20170328T100000Z
DTEND:20170328T100000Z
SUMMARY:Conferencia de Ignasi Pérez-Arnal
URL;VALUE=URI:https://arquitectes.cat/ca/node/26605
DTSTAMP:20260419T154552Z
UID:69e4dc9042087
END:VEVENT
END:VCALENDAR