BEGIN:VCALENDAR
VERSION:2.0
PRODID:-//hacksw/handcal//NONSGML v1.0//EN
CALSCALE:GREGORIAN
BEGIN:VEVENT
LOCATION:Barcelona
DESCRIPTION:
DTSTART:20170322T150000Z
DTEND:20170322T150000Z
SUMMARY:Habitar Barcelona al segle XX. Accés a l'habitatge\, veïns i ciutat 1945-1992
URL;VALUE=URI:https://arquitectes.cat/ca/content/habitar-barcelona-al-segle-xx-acc%C3%A9s-lhabitatge-ve%C3%AFns-i-ciutat-1945-1992
DTSTAMP:20260419T194216Z
UID:69e513f802286
END:VEVENT
END:VCALENDAR