BEGIN:VCALENDAR
VERSION:2.0
PRODID:-//hacksw/handcal//NONSGML v1.0//EN
CALSCALE:GREGORIAN
BEGIN:VEVENT
LOCATION:Barcelona
DESCRIPTION:
DTSTART:20170322T150000Z
DTEND:20170322T150000Z
SUMMARY:Habitar Barcelona en el siglo XX. Acceso a la vivienda\, vecinos y ciudad 1945-1992
URL;VALUE=URI:https://arquitectes.cat/ca/node/26596
DTSTAMP:20260420T004942Z
UID:69e55c0688d8e
END:VEVENT
END:VCALENDAR