BEGIN:VCALENDAR
VERSION:2.0
PRODID:-//hacksw/handcal//NONSGML v1.0//EN
CALSCALE:GREGORIAN
BEGIN:VEVENT
LOCATION:Barcelona
DESCRIPTION:
DTSTART:20170318T080000Z
DTEND:20170318T080000Z
SUMMARY:Taula rodona sobre la conservació dels marbres del Pavelló de Mies van de Rohe
URL;VALUE=URI:https://arquitectes.cat/ca/content/taula-rodona-sobre-la-conservaci%C3%B3-dels-marbres-del-pavell%C3%B3-de-mies-van-de-rohe
DTSTAMP:20260422T022804Z
UID:69e81614ac189
END:VEVENT
END:VCALENDAR