BEGIN:VCALENDAR
VERSION:2.0
PRODID:-//hacksw/handcal//NONSGML v1.0//EN
CALSCALE:GREGORIAN
BEGIN:VEVENT
LOCATION:Barcelona
DESCRIPTION:
DTSTART:20170327T170000Z
DTEND:20170327T170000Z
SUMMARY:Presentación del libro "Un palau de Barcelona" de Mateu Barba\, en el Ateneu Barcelonés
URL;VALUE=URI:https://arquitectes.cat/ca/node/26586
DTSTAMP:20260422T154150Z
UID:69e8d01e7e274
END:VEVENT
END:VCALENDAR