BEGIN:VCALENDAR
VERSION:2.0
PRODID:-//hacksw/handcal//NONSGML v1.0//EN
CALSCALE:GREGORIAN
BEGIN:VEVENT
LOCATION:Tarragona
DESCRIPTION:
DTSTART:20170511T160000Z
DTEND:20170511T160000Z
SUMMARY:Conferència: Grupo Aranea 
URL;VALUE=URI:https://arquitectes.cat/ca/content/confer%C3%A8ncia-grupo-aranea
DTSTAMP:20260419T230252Z
UID:69e542fcc4ccd
END:VEVENT
END:VCALENDAR