BEGIN:VCALENDAR
VERSION:2.0
PRODID:-//hacksw/handcal//NONSGML v1.0//EN
CALSCALE:GREGORIAN
BEGIN:VEVENT
LOCATION:Figueres
DESCRIPTION:
DTSTART:20170316T170000Z
DTEND:20170316T170000Z
SUMMARY:Presentación del libro "Recorrer la Garriguella fortificada. Descifrando los búnkeres: arquitectura y paisaje"”
URL;VALUE=URI:https://arquitectes.cat/ca/node/26527
DTSTAMP:20260420T013319Z
UID:69e5663f3f703
END:VEVENT
END:VCALENDAR