BEGIN:VCALENDAR
VERSION:2.0
PRODID:-//hacksw/handcal//NONSGML v1.0//EN
CALSCALE:GREGORIAN
BEGIN:VEVENT
LOCATION:Barcelona
DESCRIPTION:
DTSTART:20170402T103000Z
DTEND:20170402T103000Z
SUMMARY:Guided tour to the Joan Miró Foundation
URL;VALUE=URI:https://arquitectes.cat/ca/node/26503
DTSTAMP:20260419T150359Z
UID:69e4d2bfe729c
END:VEVENT
END:VCALENDAR