BEGIN:VCALENDAR
VERSION:2.0
PRODID:-//hacksw/handcal//NONSGML v1.0//EN
CALSCALE:GREGORIAN
BEGIN:VEVENT
LOCATION:Barcelona
DESCRIPTION:
DTSTART:20170314T113000Z
DTEND:20170314T113000Z
SUMMARY:Conferència d'Alfonso Alegre Heitzmann: "Las artes en la casa transpartente"
URL;VALUE=URI:https://arquitectes.cat/ca/content/confer%C3%A8ncia-dalfonso-alegre-heitzmann-las-artes-en-la-casa-transpartente
DTSTAMP:20260419T192137Z
UID:69e50f21c64b5
END:VEVENT
END:VCALENDAR