BEGIN:VCALENDAR
VERSION:2.0
PRODID:-//hacksw/handcal//NONSGML v1.0//EN
CALSCALE:GREGORIAN
BEGIN:VEVENT
LOCATION:Barcelona
DESCRIPTION:
DTSTART:20170321T170000Z
DTEND:20170321T170000Z
SUMMARY:Cicle de conferències INTERNET OF THINGS / 1a sessió: Introducció als edificis connectats o Smart Buildings
URL;VALUE=URI:https://arquitectes.cat/ca/content/cicle-de-confer%C3%A8ncies-internet-things-1a-sessi%C3%B3-introducci%C3%B3-als-edificis-connectats-o-smart
DTSTAMP:20260419T143942Z
UID:69e4cd0ee8c4b
END:VEVENT
END:VCALENDAR