BEGIN:VCALENDAR
VERSION:2.0
PRODID:-//hacksw/handcal//NONSGML v1.0//EN
CALSCALE:GREGORIAN
BEGIN:VEVENT
LOCATION:Barcelona
DESCRIPTION:
DTSTART:20170304T150000Z
DTEND:20170304T150000Z
SUMMARY:Taller familiar d'arquitectura: Construïm el Mercat del Born 
URL;VALUE=URI:https://arquitectes.cat/ca/content/taller-familiar-darquitectura-constru%C3%AFm-el-mercat-del-born
DTSTAMP:20260419T180939Z
UID:69e4fe43c4f7c
END:VEVENT
END:VCALENDAR