BEGIN:VCALENDAR
VERSION:2.0
PRODID:-//hacksw/handcal//NONSGML v1.0//EN
CALSCALE:GREGORIAN
BEGIN:VEVENT
LOCATION:Barcelona
DESCRIPTION:
DTSTART:20170301T163000Z
DTEND:20170301T163000Z
SUMMARY:Sexualising Architecture. Lecture by Andrés Jaque
URL;VALUE=URI:https://arquitectes.cat/ca/node/26464
DTSTAMP:20260419T203020Z
UID:69e51f3c61f95
END:VEVENT
END:VCALENDAR