BEGIN:VCALENDAR
VERSION:2.0
PRODID:-//hacksw/handcal//NONSGML v1.0//EN
CALSCALE:GREGORIAN
BEGIN:VEVENT
LOCATION:Barcelona
DESCRIPTION:
DTSTART:20170224T170000Z
DTEND:20170224T170000Z
SUMMARY:Ecumenòpolis: De la Rambla per veure\, a la Rambla per viure
URL;VALUE=URI:https://arquitectes.cat/ca/content/ecumen%C3%B2polis-de-la-rambla-veure-la-rambla-viure
DTSTAMP:20260426T034037Z
UID:69ed6d15d6c43
END:VEVENT
END:VCALENDAR