BEGIN:VCALENDAR
VERSION:2.0
PRODID:-//hacksw/handcal//NONSGML v1.0//EN
CALSCALE:GREGORIAN
BEGIN:VEVENT
LOCATION:Barcelona
DESCRIPTION:
DTSTART:20170219T090000Z
DTEND:20170219T090000Z
SUMMARY:"Espais de vida"\, taller familiar de l'exposició "Aftermath"
URL;VALUE=URI:https://arquitectes.cat/ca/content/espais-de-vida-taller-familiar-de-lexposici%C3%B3-aftermath
DTSTAMP:20260419T230742Z
UID:69e5441e7511d
END:VEVENT
END:VCALENDAR