BEGIN:VCALENDAR
VERSION:2.0
PRODID:-//hacksw/handcal//NONSGML v1.0//EN
CALSCALE:GREGORIAN
BEGIN:VEVENT
LOCATION:Girona
DESCRIPTION:
DTSTART:20170208T070000Z
DTEND:20170209T120000Z
SUMMARY:Jornada: Vivienda y futuro sostenible\, un reto para el sector
URL;VALUE=URI:https://arquitectes.cat/ca/node/26302
DTSTAMP:20260423T051418Z
UID:69e98e8a647da
END:VEVENT
END:VCALENDAR