BEGIN:VCALENDAR
VERSION:2.0
PRODID:-//hacksw/handcal//NONSGML v1.0//EN
CALSCALE:GREGORIAN
BEGIN:VEVENT
LOCATION:Barcelona
DESCRIPTION:
DTSTART:20170202T170000Z
DTEND:20170202T170000Z
SUMMARY:Ciclo de conferencias: Development by design. 3ª sesión: Unnatural Disasters and the Future of Resilience / Eric Cesal
URL;VALUE=URI:https://arquitectes.cat/ca/node/26299
DTSTAMP:20260420T002614Z
UID:69e556864422b
END:VEVENT
END:VCALENDAR