BEGIN:VCALENDAR
VERSION:2.0
PRODID:-//hacksw/handcal//NONSGML v1.0//EN
CALSCALE:GREGORIAN
BEGIN:VEVENT
LOCATION:Girona
DESCRIPTION:
DTSTART:20170208T070000Z
DTEND:20170209T120000Z
SUMMARY:Jornada: Habitatge i futur sostenible\, un repte per al sector  
URL;VALUE=URI:https://arquitectes.cat/ca/content/jornada-habitatge-i-futur-sostenible-un-repte-al-sector
DTSTAMP:20260419T200900Z
UID:69e51a3c7aaf5
END:VEVENT
END:VCALENDAR