BEGIN:VCALENDAR
VERSION:2.0
PRODID:-//hacksw/handcal//NONSGML v1.0//EN
CALSCALE:GREGORIAN
BEGIN:VEVENT
LOCATION:Barcelona
DESCRIPTION:
DTSTART:20170212T160000Z
DTEND:20170212T160000Z
SUMMARY:Visita nocturna al Pavelló Mies van der Rohe amb la il·luminació original de 1929
URL;VALUE=URI:https://arquitectes.cat/ca/content/visita-nocturna-al-pavell%C3%B3-mies-van-der-rohe-amb-la-il%C2%B7luminaci%C3%B3-original-de-1929
DTSTAMP:20260420T010834Z
UID:69e56072a6e05
END:VEVENT
END:VCALENDAR