BEGIN:VCALENDAR
VERSION:2.0
PRODID:-//hacksw/handcal//NONSGML v1.0//EN
CALSCALE:GREGORIAN
BEGIN:VEVENT
LOCATION:Barcelona
DESCRIPTION:
DTSTART:20170209T170000Z
DTEND:20170209T170000Z
SUMMARY:ESCALA: Conferència amb Falcão de Campos\, Carles Enrich i CAVAA
URL;VALUE=URI:https://arquitectes.cat/ca/content/escala-confer%C3%A8ncia-amb-falc%C3%A3o-de-campos-carles-enrich-i-cavaa
DTSTAMP:20260423T093926Z
UID:69e9ccae094b9
END:VEVENT
END:VCALENDAR