BEGIN:VCALENDAR
VERSION:2.0
PRODID:-//hacksw/handcal//NONSGML v1.0//EN
CALSCALE:GREGORIAN
BEGIN:VEVENT
LOCATION:Barcelona
DESCRIPTION:
DTSTART:20161117T101500Z
DTEND:20170226T180000Z
SUMMARY:Exposición: "Picasso Románico"
URL;VALUE=URI:https://arquitectes.cat/ca/node/26243
DTSTAMP:20260419T215416Z
UID:69e532e8212fa
END:VEVENT
END:VCALENDAR