BEGIN:VCALENDAR
VERSION:2.0
PRODID:-//hacksw/handcal//NONSGML v1.0//EN
CALSCALE:GREGORIAN
BEGIN:VEVENT
LOCATION:Barcelona
DESCRIPTION:
DTSTART:20170215T170000Z
DTEND:20170215T170000Z
SUMMARY:Presentació del llibre “Umbrales domésticos / Domestic Thresholds”
URL;VALUE=URI:https://arquitectes.cat/ca/content/presentaci%C3%B3-del-llibre-%E2%80%9Cumbrales-dom%C3%A9sticos-domestic-thresholds%E2%80%9D
DTSTAMP:20260426T034122Z
UID:69ed6d42d2c19
END:VEVENT
END:VCALENDAR