BEGIN:VCALENDAR
VERSION:2.0
PRODID:-//hacksw/handcal//NONSGML v1.0//EN
CALSCALE:GREGORIAN
BEGIN:VEVENT
LOCATION:Barcelona
DESCRIPTION:
DTSTART:20170215T170000Z
DTEND:20170215T170000Z
SUMMARY:Presentación del libro “Umbrales domésticos / Domestic Thresholds”
URL;VALUE=URI:https://arquitectes.cat/ca/node/26235
DTSTAMP:20260419T152037Z
UID:69e4d6a550a96
END:VEVENT
END:VCALENDAR