BEGIN:VCALENDAR
VERSION:2.0
PRODID:-//hacksw/handcal//NONSGML v1.0//EN
CALSCALE:GREGORIAN
BEGIN:VEVENT
LOCATION:Barcelona
DESCRIPTION:
DTSTART:20161212T113000Z
DTEND:20170216T180000Z
SUMMARY:Exposición YTAA 2016. Las escuelas europeas de arquitectura muestran sus proyectos final de carrera
URL;VALUE=URI:https://arquitectes.cat/ca/node/26156
DTSTAMP:20260419T230712Z
UID:69e544003a56f
END:VEVENT
END:VCALENDAR