BEGIN:VCALENDAR
VERSION:2.0
PRODID:-//hacksw/handcal//NONSGML v1.0//EN
CALSCALE:GREGORIAN
BEGIN:VEVENT
LOCATION:Barcelona
DESCRIPTION:
DTSTART:20161121T073000Z
DTEND:20170121T113000Z
SUMMARY:Exposición "Metrópolis Verde"
URL;VALUE=URI:https://arquitectes.cat/ca/node/26155
DTSTAMP:20260423T015505Z
UID:69e95fd92cce1
END:VEVENT
END:VCALENDAR