BEGIN:VCALENDAR
VERSION:2.0
PRODID:-//hacksw/handcal//NONSGML v1.0//EN
CALSCALE:GREGORIAN
BEGIN:VEVENT
LOCATION:Barcelona
DESCRIPTION:
DTSTART:20170120T170000Z
DTEND:20170120T170000Z
SUMMARY:Primera sessió de l'Ecumenòpolis 2017: Debat Videològic
URL;VALUE=URI:https://arquitectes.cat/ca/content/primera-sessi%C3%B3-de-lecumen%C3%B2polis-2017-debat-videol%C3%B2gic
DTSTAMP:20260422T124938Z
UID:69e8a7c2de2b1
END:VEVENT
END:VCALENDAR