BEGIN:VCALENDAR
VERSION:2.0
PRODID:-//hacksw/handcal//NONSGML v1.0//EN
CALSCALE:GREGORIAN
BEGIN:VEVENT
LOCATION:Barcelona
DESCRIPTION:
DTSTART:20170120T170000Z
DTEND:20170120T170000Z
SUMMARY:1ª sesión del Ecumenópolis 2017: Debate Videológico
URL;VALUE=URI:https://arquitectes.cat/ca/node/26137
DTSTAMP:20260423T003113Z
UID:69e94c31c1969
END:VEVENT
END:VCALENDAR