BEGIN:VCALENDAR
VERSION:2.0
PRODID:-//hacksw/handcal//NONSGML v1.0//EN
CALSCALE:GREGORIAN
BEGIN:VEVENT
LOCATION:Girona
DESCRIPTION:
DTSTART:20170116T170000Z
DTEND:20170116T170000Z
SUMMARY:Presentación del libro "Cámara Agrícola del Empordà. Arquitectura\, economía y sociedad"
URL;VALUE=URI:https://arquitectes.cat/ca/node/26100
DTSTAMP:20260419T205128Z
UID:69e5243065443
END:VEVENT
END:VCALENDAR