BEGIN:VCALENDAR
VERSION:2.0
PRODID:-//hacksw/handcal//NONSGML v1.0//EN
CALSCALE:GREGORIAN
BEGIN:VEVENT
LOCATION:Barcelona
DESCRIPTION:
DTSTART:20170216T170000Z
DTEND:20170309T190000Z
SUMMARY:Curs: “Ciutat\, Espais i Arquitectura de la Memòria”
URL;VALUE=URI:https://arquitectes.cat/ca/content/curs-%E2%80%9Cciutat-espais-i-arquitectura-de-la-mem%C3%B2ria%E2%80%9D
DTSTAMP:20260419T204734Z
UID:69e52346800bb
END:VEVENT
END:VCALENDAR