BEGIN:VCALENDAR
VERSION:2.0
PRODID:-//hacksw/handcal//NONSGML v1.0//EN
CALSCALE:GREGORIAN
BEGIN:VEVENT
LOCATION:Figueres
DESCRIPTION:
DTSTART:20161220T173000Z
DTEND:20161220T173000Z
SUMMARY:Conferencia "Proyectando paisajes" con Xevi Bayona
URL;VALUE=URI:https://arquitectes.cat/ca/node/25987
DTSTAMP:20260419T215214Z
UID:69e5326e070ff
END:VEVENT
END:VCALENDAR